BEGIN:VCALENDAR
VERSION:2.0
PRODID:-//Squarespace Inc/Squarespace 6//v6//EN
BEGIN:VEVENT
UID:5b482f70aa4a997984b09f8d@squarespace.com
DTSTAMP:20180901T032431Z
DTSTART:20180830T050000Z
DTEND:20180901T030000Z
SUMMARY:6th Annual Spring Clearance
END:VEVENT
END:VCALENDAR
