BEGIN:VCALENDAR
VERSION:2.0
PRODID:-//Squarespace Inc/Squarespace 6//v6//EN
BEGIN:VEVENT
UID:60177430da94a961a3e0ef3f@squarespace.com
DTSTAMP:20210204T220544Z
DTSTART:20210225T220000Z
DTEND:20210227T060000Z
SUMMARY:HALFPENNY LONDON Trunk Show
GEO:-33.829933;151.219861
LOCATION:Helen Rodrigues Bridal Wear\, 7\, 211 Ben Boyd Rd\, Neutral Bay NS
 W\, 2089\, Australia
END:VEVENT
END:VCALENDAR
