BEGIN:VCALENDAR
VERSION:2.0
PRODID:-//Squarespace Inc/Squarespace 6//v6//EN
BEGIN:VEVENT
UID:5ffb9419576d293b16e61029@squarespace.com
DTSTAMP:20210204T220237Z
DTSTART:20210218T220000Z
DTEND:20210220T060000Z
SUMMARY:Inbal Dror 2021 Trunk Show
GEO:-33.829933;151.219861
LOCATION:Helen Rodrigues Bridal Wear\, 7\, 211 Ben Boyd Rd\, Neutral Bay NS
 W\, 2089\, Australia
END:VEVENT
END:VCALENDAR
