BEGIN:VCALENDAR
VERSION:2.0
PRODID:-//Squarespace Inc/Squarespace 6//v6//EN
BEGIN:VEVENT
UID:5ef54ec8f76c126274abaee4@squarespace.com
DTSTAMP:20200806T002933Z
DTSTART:20200827T230000Z
DTEND:20200829T070000Z
SUMMARY:Alon Livne White 2020 Trunk Show
END:VEVENT
END:VCALENDAR
