BEGIN:VCALENDAR
VERSION:2.0
PRODID:-//Squarespace Inc/Squarespace 6//v6//EN
BEGIN:VEVENT
UID:5d70a3983abbbf0001b5c5e7@squarespace.com
DTSTAMP:20191003T002018Z
DTSTART:20191107T230000Z
DTEND:20191109T060000Z
SUMMARY:Lee Petra Grebenau 2020 Trunk Show
END:VEVENT
END:VCALENDAR
