BEGIN:VCALENDAR
VERSION:2.0
PRODID:-//Squarespace Inc/Squarespace 6//v6//EN
BEGIN:VEVENT
UID:5d70aa18a26345000185e4df@squarespace.com
DTSTAMP:20191109T201747Z
DTSTART:20191121T230000Z
DTEND:20191123T060000Z
SUMMARY:Inbal Dror 2020 Trunk Show
END:VEVENT
END:VCALENDAR
